Workbook
Name 選手リスト: #REF!

Sheet 県総体選手変更届
A1: 令和８年度佐賀県高等学校総合体育大会 弓道競技 選手変更届
A3: 学校名 | D3: =IF([1]学校情報!B1="","",[1]学校情報!B1)
A5: 女子 | D5: 監督 | F5: =IF([1]学校情報!B4="","",[1]学校情報!B4)
A6: 団体 | B6: 順 | C6: 氏名 | I6: ふりがな | P6: 学年 | R6: 生年月日 | X6: 女子
B7: 1 | C7: =IF($Z7="","",VLOOKUP($Z7,[1]選手登録!$E:$O,4,FALSE)&" "&VLOOKUP($Z7,[1]選手登録!$E:$O,5,FALSE)) | I7: =IF($Z7="","",VLOOKUP($Z7,[1]選手登録!$E:$O,6,FALSE)&" "&VLOOKUP($Z7,[1]選手登録!$E:$O,7,FALSE)) | P7: =IF($Z7="","",VLOOKUP($Z7,[1]選手登録!$E:$O,8,FALSE)) | R7: =IF($Z7="","",VLOOKUP($Z7,[1]選手登録!$E:$O,10,FALSE)) | T7: =IF($Z7="","",VLOOKUP($Z7,#REF!,8,FALSE)) | X7: 団体 | Y7: 1
B8: 2 | C8: =IF($Z8="","",VLOOKUP($Z8,[1]選手登録!$E:$O,4,FALSE)&" "&VLOOKUP($Z8,[1]選手登録!$E:$O,5,FALSE)) | I8: =IF($Z8="","",VLOOKUP($Z8,[1]選手登録!$E:$O,6,FALSE)&" "&VLOOKUP($Z8,[1]選手登録!$E:$O,7,FALSE)) | P8: =IF($Z8="","",VLOOKUP($Z8,[1]選手登録!$E:$O,8,FALSE)) | R8: =IF($Z8="","",VLOOKUP($Z8,[1]選手登録!$E:$O,10,FALSE)) | T8: =IF($Z8="","",VLOOKUP($Z8,#REF!,8,FALSE)) | Y8: 2
B9: 3 | C9: =IF($Z9="","",VLOOKUP($Z9,[1]選手登録!$E:$O,4,FALSE)&" "&VLOOKUP($Z9,[1]選手登録!$E:$O,5,FALSE)) | I9: =IF($Z9="","",VLOOKUP($Z9,[1]選手登録!$E:$O,6,FALSE)&" "&VLOOKUP($Z9,[1]選手登録!$E:$O,7,FALSE)) | P9: =IF($Z9="","",VLOOKUP($Z9,[1]選手登録!$E:$O,8,FALSE)) | R9: =IF($Z9="","",VLOOKUP($Z9,[1]選手登録!$E:$O,10,FALSE)) | T9: =IF($Z9="","",VLOOKUP($Z9,#REF!,8,FALSE)) | Y9: 3
B10: 4 | C10: =IF($Z10="","",VLOOKUP($Z10,[1]選手登録!$E:$O,4,FALSE)&" "&VLOOKUP($Z10,[1]選手登録!$E:$O,5,FALSE)) | I10: =IF($Z10="","",VLOOKUP($Z10,[1]選手登録!$E:$O,6,FALSE)&" "&VLOOKUP($Z10,[1]選手登録!$E:$O,7,FALSE)) | P10: =IF($Z10="","",VLOOKUP($Z10,[1]選手登録!$E:$O,8,FALSE)) | R10: =IF($Z10="","",VLOOKUP($Z10,[1]選手登録!$E:$O,10,FALSE)) | T10: =IF($Z10="","",VLOOKUP($Z10,#REF!,8,FALSE)) | Y10: 4
B11: 5 | C11: =IF($Z11="","",VLOOKUP($Z11,[1]選手登録!$E:$O,4,FALSE)&" "&VLOOKUP($Z11,[1]選手登録!$E:$O,5,FALSE)) | I11: =IF($Z11="","",VLOOKUP($Z11,[1]選手登録!$E:$O,6,FALSE)&" "&VLOOKUP($Z11,[1]選手登録!$E:$O,7,FALSE)) | P11: =IF($Z11="","",VLOOKUP($Z11,[1]選手登録!$E:$O,8,FALSE)) | R11: =IF($Z11="","",VLOOKUP($Z11,[1]選手登録!$E:$O,10,FALSE)) | T11: =IF($Z11="","",VLOOKUP($Z11,#REF!,8,FALSE)) | Y11: 5
B12: 6 | C12: =IF($Z12="","",VLOOKUP($Z12,[1]選手登録!$E:$O,4,FALSE)&" "&VLOOKUP($Z12,[1]選手登録!$E:$O,5,FALSE)) | I12: =IF($Z12="","",VLOOKUP($Z12,[1]選手登録!$E:$O,6,FALSE)&" "&VLOOKUP($Z12,[1]選手登録!$E:$O,7,FALSE)) | P12: =IF($Z12="","",VLOOKUP($Z12,[1]選手登録!$E:$O,8,FALSE)) | R12: =IF($Z12="","",VLOOKUP($Z12,[1]選手登録!$E:$O,10,FALSE)) | T12: =IF($Z12="","",VLOOKUP($Z12,#REF!,8,FALSE)) | Y12: 6
B13: 7 | C13: =IF($Z13="","",VLOOKUP($Z13,[1]選手登録!$E:$O,4,FALSE)&" "&VLOOKUP($Z13,[1]選手登録!$E:$O,5,FALSE)) | I13: =IF($Z13="","",VLOOKUP($Z13,[1]選手登録!$E:$O,6,FALSE)&" "&VLOOKUP($Z13,[1]選手登録!$E:$O,7,FALSE)) | P13: =IF($Z13="","",VLOOKUP($Z13,[1]選手登録!$E:$O,8,FALSE)) | R13: =IF($Z13="","",VLOOKUP($Z13,[1]選手登録!$E:$O,10,FALSE)) | T13: =IF($Z13="","",VLOOKUP($Z13,#REF!,8,FALSE)) | Y13: 7
A14: 個人 | B14: 1 | C14: =IF($Z14="","",VLOOKUP($Z14,[1]選手登録!$E:$O,4,FALSE)&" "&VLOOKUP($Z14,[1]選手登録!$E:$O,5,FALSE)) | I14: =IF($Z14="","",VLOOKUP($Z14,[1]選手登録!$E:$O,6,FALSE)&" "&VLOOKUP($Z14,[1]選手登録!$E:$O,7,FALSE)) | P14: =IF($Z14="","",VLOOKUP($Z14,[1]選手登録!$E:$O,8,FALSE)) | R14: =IF($Z14="","",VLOOKUP($Z14,[1]選手登録!$E:$O,10,FALSE)) | T14: =IF($Z14="","",VLOOKUP($Z14,#REF!,8,FALSE)) | X14: 個人 | Y14: 1
B15: 2 | C15: =IF($Z15="","",VLOOKUP($Z15,[1]選手登録!$E:$O,4,FALSE)&" "&VLOOKUP($Z15,[1]選手登録!$E:$O,5,FALSE)) | I15: =IF($Z15="","",VLOOKUP($Z15,[1]選手登録!$E:$O,6,FALSE)&" "&VLOOKUP($Z15,[1]選手登録!$E:$O,7,FALSE)) | P15: =IF($Z15="","",VLOOKUP($Z15,[1]選手登録!$E:$O,8,FALSE)) | R15: =IF($Z15="","",VLOOKUP($Z15,[1]選手登録!$E:$O,10,FALSE)) | T15: =IF($Z15="","",VLOOKUP($Z15,#REF!,8,FALSE)) | Y15: 2
B16: 3 | C16: =IF($Z16="","",VLOOKUP($Z16,[1]選手登録!$E:$O,4,FALSE)&" "&VLOOKUP($Z16,[1]選手登録!$E:$O,5,FALSE)) | I16: =IF($Z16="","",VLOOKUP($Z16,[1]選手登録!$E:$O,6,FALSE)&" "&VLOOKUP($Z16,[1]選手登録!$E:$O,7,FALSE)) | P16: =IF($Z16="","",VLOOKUP($Z16,[1]選手登録!$E:$O,8,FALSE)) | R16: =IF($Z16="","",VLOOKUP($Z16,[1]選手登録!$E:$O,10,FALSE)) | T16: =IF($Z16="","",VLOOKUP($Z16,#REF!,8,FALSE)) | Y16: 3
B17: 4 | C17: =IF($Z17="","",VLOOKUP($Z17,[1]選手登録!$E:$O,4,FALSE)&" "&VLOOKUP($Z17,[1]選手登録!$E:$O,5,FALSE)) | I17: =IF($Z17="","",VLOOKUP($Z17,[1]選手登録!$E:$O,6,FALSE)&" "&VLOOKUP($Z17,[1]選手登録!$E:$O,7,FALSE)) | P17: =IF($Z17="","",VLOOKUP($Z17,[1]選手登録!$E:$O,8,FALSE)) | R17: =IF($Z17="","",VLOOKUP($Z17,[1]選手登録!$E:$O,10,FALSE)) | T17: =IF($Z17="","",VLOOKUP($Z17,#REF!,8,FALSE)) | Y17: 4
B18: 5 | C18: =IF($Z18="","",VLOOKUP($Z18,[1]選手登録!$E:$O,4,FALSE)&" "&VLOOKUP($Z18,[1]選手登録!$E:$O,5,FALSE)) | I18: =IF($Z18="","",VLOOKUP($Z18,[1]選手登録!$E:$O,6,FALSE)&" "&VLOOKUP($Z18,[1]選手登録!$E:$O,7,FALSE)) | P18: =IF($Z18="","",VLOOKUP($Z18,[1]選手登録!$E:$O,8,FALSE)) | R18: =IF($Z18="","",VLOOKUP($Z18,[1]選手登録!$E:$O,10,FALSE)) | T18: =IF($Z18="","",VLOOKUP($Z18,#REF!,8,FALSE)) | Y18: 5
B19: 6 | C19: =IF($Z19="","",VLOOKUP($Z19,[1]選手登録!$E:$O,4,FALSE)&" "&VLOOKUP($Z19,[1]選手登録!$E:$O,5,FALSE)) | I19: =IF($Z19="","",VLOOKUP($Z19,[1]選手登録!$E:$O,6,FALSE)&" "&VLOOKUP($Z19,[1]選手登録!$E:$O,7,FALSE)) | P19: =IF($Z19="","",VLOOKUP($Z19,[1]選手登録!$E:$O,8,FALSE)) | R19: =IF($Z19="","",VLOOKUP($Z19,[1]選手登録!$E:$O,10,FALSE)) | T19: =IF($Z19="","",VLOOKUP($Z19,#REF!,8,FALSE)) | Y19: 6
B20: 7 | C20: =IF($Z20="","",VLOOKUP($Z20,[1]選手登録!$E:$O,4,FALSE)&" "&VLOOKUP($Z20,[1]選手登録!$E:$O,5,FALSE)) | I20: =IF($Z20="","",VLOOKUP($Z20,[1]選手登録!$E:$O,6,FALSE)&" "&VLOOKUP($Z20,[1]選手登録!$E:$O,7,FALSE)) | P20: =IF($Z20="","",VLOOKUP($Z20,[1]選手登録!$E:$O,8,FALSE)) | R20: =IF($Z20="","",VLOOKUP($Z20,[1]選手登録!$E:$O,10,FALSE)) | T20: =IF($Z20="","",VLOOKUP($Z20,#REF!,8,FALSE)) | Y20: 7
A22: 男子 | D22: 監督 | F22: =IF([1]学校情報!B5="","",[1]学校情報!B5)
A23: 団体 | B23: 順 | C23: 氏名 | I23: ふりがな | P23: 学年 | R23: 生年月日 | X23: 男子
B24: 1 | C24: =IF($Z24="","",VLOOKUP($Z24,[1]選手登録!$E:$O,4,FALSE)&" "&VLOOKUP($Z24,[1]選手登録!$E:$O,5,FALSE)) | I24: =IF($Z24="","",VLOOKUP($Z24,[1]選手登録!$E:$O,6,FALSE)&" "&VLOOKUP($Z24,[1]選手登録!$E:$O,7,FALSE)) | P24: =IF($Z24="","",VLOOKUP($Z24,[1]選手登録!$E:$O,8,FALSE)) | R24: =IF($Z24="","",VLOOKUP($Z24,[1]選手登録!$E:$O,10,FALSE)) | T24: =IF($Z25="","",VLOOKUP($Z25,#REF!,8,FALSE)) | X24: 団体 | Y24: 1
B25: 2 | C25: =IF($Z25="","",VLOOKUP($Z25,[1]選手登録!$E:$O,4,FALSE)&" "&VLOOKUP($Z25,[1]選手登録!$E:$O,5,FALSE)) | I25: =IF($Z25="","",VLOOKUP($Z25,[1]選手登録!$E:$O,6,FALSE)&" "&VLOOKUP($Z25,[1]選手登録!$E:$O,7,FALSE)) | P25: =IF($Z25="","",VLOOKUP($Z25,[1]選手登録!$E:$O,8,FALSE)) | R25: =IF($Z25="","",VLOOKUP($Z25,[1]選手登録!$E:$O,10,FALSE)) | T25: =IF($Z26="","",VLOOKUP($Z26,#REF!,8,FALSE)) | Y25: 2
B26: 3 | C26: =IF($Z26="","",VLOOKUP($Z26,[1]選手登録!$E:$O,4,FALSE)&" "&VLOOKUP($Z26,[1]選手登録!$E:$O,5,FALSE)) | I26: =IF($Z26="","",VLOOKUP($Z26,[1]選手登録!$E:$O,6,FALSE)&" "&VLOOKUP($Z26,[1]選手登録!$E:$O,7,FALSE)) | P26: =IF($Z26="","",VLOOKUP($Z26,[1]選手登録!$E:$O,8,FALSE)) | R26: =IF($Z26="","",VLOOKUP($Z26,[1]選手登録!$E:$O,10,FALSE)) | T26: =IF($Z27="","",VLOOKUP($Z27,#REF!,8,FALSE)) | Y26: 3
B27: 4 | C27: =IF($Z27="","",VLOOKUP($Z27,[1]選手登録!$E:$O,4,FALSE)&" "&VLOOKUP($Z27,[1]選手登録!$E:$O,5,FALSE)) | I27: =IF($Z27="","",VLOOKUP($Z27,[1]選手登録!$E:$O,6,FALSE)&" "&VLOOKUP($Z27,[1]選手登録!$E:$O,7,FALSE)) | P27: =IF($Z27="","",VLOOKUP($Z27,[1]選手登録!$E:$O,8,FALSE)) | R27: =IF($Z27="","",VLOOKUP($Z27,[1]選手登録!$E:$O,10,FALSE)) | T27: =IF($Z28="","",VLOOKUP($Z28,#REF!,8,FALSE)) | Y27: 4
B28: 5 | C28: =IF($Z28="","",VLOOKUP($Z28,[1]選手登録!$E:$O,4,FALSE)&" "&VLOOKUP($Z28,[1]選手登録!$E:$O,5,FALSE)) | I28: =IF($Z28="","",VLOOKUP($Z28,[1]選手登録!$E:$O,6,FALSE)&" "&VLOOKUP($Z28,[1]選手登録!$E:$O,7,FALSE)) | P28: =IF($Z28="","",VLOOKUP($Z28,[1]選手登録!$E:$O,8,FALSE)) | R28: =IF($Z28="","",VLOOKUP($Z28,[1]選手登録!$E:$O,10,FALSE)) | T28: =IF($Z29="","",VLOOKUP($Z29,#REF!,8,FALSE)) | Y28: 5
B29: 6 | C29: =IF($Z29="","",VLOOKUP($Z29,[1]選手登録!$E:$O,4,FALSE)&" "&VLOOKUP($Z29,[1]選手登録!$E:$O,5,FALSE)) | I29: =IF($Z29="","",VLOOKUP($Z29,[1]選手登録!$E:$O,6,FALSE)&" "&VLOOKUP($Z29,[1]選手登録!$E:$O,7,FALSE)) | P29: =IF($Z29="","",VLOOKUP($Z29,[1]選手登録!$E:$O,8,FALSE)) | R29: =IF($Z29="","",VLOOKUP($Z29,[1]選手登録!$E:$O,10,FALSE)) | T29: =IF($Z30="","",VLOOKUP($Z30,#REF!,8,FALSE)) | Y29: 6
B30: 7 | C30: =IF($Z30="","",VLOOKUP($Z30,[1]選手登録!$E:$O,4,FALSE)&" "&VLOOKUP($Z30,[1]選手登録!$E:$O,5,FALSE)) | I30: =IF($Z30="","",VLOOKUP($Z30,[1]選手登録!$E:$O,6,FALSE)&" "&VLOOKUP($Z30,[1]選手登録!$E:$O,7,FALSE)) | P30: =IF($Z30="","",VLOOKUP($Z30,[1]選手登録!$E:$O,8,FALSE)) | R30: =IF($Z30="","",VLOOKUP($Z30,[1]選手登録!$E:$O,10,FALSE)) | T30: =IF($Z31="","",VLOOKUP($Z31,#REF!,8,FALSE)) | Y30: 7
A31: 個人 | B31: 1 | C31: =IF($Z31="","",VLOOKUP($Z31,[1]選手登録!$E:$O,4,FALSE)&" "&VLOOKUP($Z31,[1]選手登録!$E:$O,5,FALSE)) | I31: =IF($Z31="","",VLOOKUP($Z31,[1]選手登録!$E:$O,6,FALSE)&" "&VLOOKUP($Z31,[1]選手登録!$E:$O,7,FALSE)) | P31: =IF($Z31="","",VLOOKUP($Z31,[1]選手登録!$E:$O,8,FALSE)) | R31: =IF($Z31="","",VLOOKUP($Z31,[1]選手登録!$E:$O,10,FALSE)) | T31: =IF($Z32="","",VLOOKUP($Z32,#REF!,8,FALSE)) | X31: 個人 | Y31: 1
B32: 2 | C32: =IF($Z32="","",VLOOKUP($Z32,[1]選手登録!$E:$O,4,FALSE)&" "&VLOOKUP($Z32,[1]選手登録!$E:$O,5,FALSE)) | I32: =IF($Z32="","",VLOOKUP($Z32,[1]選手登録!$E:$O,6,FALSE)&" "&VLOOKUP($Z32,[1]選手登録!$E:$O,7,FALSE)) | P32: =IF($Z32="","",VLOOKUP($Z32,[1]選手登録!$E:$O,8,FALSE)) | R32: =IF($Z32="","",VLOOKUP($Z32,[1]選手登録!$E:$O,10,FALSE)) | T32: =IF($Z33="","",VLOOKUP($Z33,#REF!,8,FALSE)) | Y32: 2
B33: 3 | C33: =IF($Z33="","",VLOOKUP($Z33,[1]選手登録!$E:$O,4,FALSE)&" "&VLOOKUP($Z33,[1]選手登録!$E:$O,5,FALSE)) | I33: =IF($Z33="","",VLOOKUP($Z33,[1]選手登録!$E:$O,6,FALSE)&" "&VLOOKUP($Z33,[1]選手登録!$E:$O,7,FALSE)) | P33: =IF($Z33="","",VLOOKUP($Z33,[1]選手登録!$E:$O,8,FALSE)) | R33: =IF($Z33="","",VLOOKUP($Z33,[1]選手登録!$E:$O,10,FALSE)) | T33: =IF($Z34="","",VLOOKUP($Z34,#REF!,8,FALSE)) | Y33: 3
B34: 4 | C34: =IF($Z34="","",VLOOKUP($Z34,[1]選手登録!$E:$O,4,FALSE)&" "&VLOOKUP($Z34,[1]選手登録!$E:$O,5,FALSE)) | I34: =IF($Z34="","",VLOOKUP($Z34,[1]選手登録!$E:$O,6,FALSE)&" "&VLOOKUP($Z34,[1]選手登録!$E:$O,7,FALSE)) | P34: =IF($Z34="","",VLOOKUP($Z34,[1]選手登録!$E:$O,8,FALSE)) | R34: =IF($Z34="","",VLOOKUP($Z34,[1]選手登録!$E:$O,10,FALSE)) | T34: =IF($Z35="","",VLOOKUP($Z35,#REF!,8,FALSE)) | Y34: 4
B35: 5 | C35: =IF($Z35="","",VLOOKUP($Z35,[1]選手登録!$E:$O,4,FALSE)&" "&VLOOKUP($Z35,[1]選手登録!$E:$O,5,FALSE)) | I35: =IF($Z35="","",VLOOKUP($Z35,[1]選手登録!$E:$O,6,FALSE)&" "&VLOOKUP($Z35,[1]選手登録!$E:$O,7,FALSE)) | P35: =IF($Z35="","",VLOOKUP($Z35,[1]選手登録!$E:$O,8,FALSE)) | R35: =IF($Z35="","",VLOOKUP($Z35,[1]選手登録!$E:$O,10,FALSE)) | T35: =IF($Z36="","",VLOOKUP($Z36,#REF!,8,FALSE)) | Y35: 5
B36: 6 | C36: =IF($Z36="","",VLOOKUP($Z36,[1]選手登録!$E:$O,4,FALSE)&" "&VLOOKUP($Z36,[1]選手登録!$E:$O,5,FALSE)) | I36: =IF($Z36="","",VLOOKUP($Z36,[1]選手登録!$E:$O,6,FALSE)&" "&VLOOKUP($Z36,[1]選手登録!$E:$O,7,FALSE)) | P36: =IF($Z36="","",VLOOKUP($Z36,[1]選手登録!$E:$O,8,FALSE)) | R36: =IF($Z36="","",VLOOKUP($Z36,[1]選手登録!$E:$O,10,FALSE)) | T36: =IF($Z37="","",VLOOKUP($Z37,#REF!,8,FALSE)) | Y36: 6
B37: 7 | C37: =IF($Z37="","",VLOOKUP($Z37,[1]選手登録!$E:$O,4,FALSE)&" "&VLOOKUP($Z37,[1]選手登録!$E:$O,5,FALSE)) | I37: =IF($Z37="","",VLOOKUP($Z37,[1]選手登録!$E:$O,6,FALSE)&" "&VLOOKUP($Z37,[1]選手登録!$E:$O,7,FALSE)) | P37: =IF($Z37="","",VLOOKUP($Z37,[1]選手登録!$E:$O,8,FALSE)) | R37: =IF($Z37="","",VLOOKUP($Z37,[1]選手登録!$E:$O,10,FALSE)) | T37: =IF($Z38="","",VLOOKUP($Z38,#REF!,8,FALSE)) | Y37: 7
A39: 標記大会に参加することを認め、選手の変更を申請します。
A41: 令和 | C41: 8 | D41: 年 | F41: 月 | H41: 日 | J41: 学校長 | M41: =IF([1]学校情報!B3="","",[1]学校情報!B3) | T41: 公印
